BEGIN:VCALENDAR
VERSION:2.0
PRODID:icalendar-ruby
CALSCALE:GREGORIAN
METHOD:PUBLISH
BEGIN:VEVENT
DTSTAMP:20260425T120407Z
UID:52-660527@newlifestaunton.org
DTSTART:20260502T190000Z
DTEND:20260502T210000Z
CLASS:PUBLIC
CREATED:20260415T142135
DESCRIPTION:Join us at Regal Cinema in Harrisonburg for the 3:00 showing of
  The Story of Everything. See Agnes Campbell or Ralph Puffenbarger for det
 ails.\n
LAST-MODIFIED:20260415T142135
LOCATION:Regal Cinema\, Harrisonburg
SUMMARY:Documentary Film
URL;VALUE=URI:https://www.newlifestaunton.org/events/documentary-film/2026-
 05-02
ATTACH;FILENAME=Slide-28.jpg;FMTTYPE=image/jpeg:https://dq5pwpg1q8ru0.cloud
 front.net/2026/04/15/18/21/35/40e01df2-9216-49a3-9d9b-adb474a7814c/Slide-2
 8.jpg
END:VEVENT
END:VCALENDAR
